BEGIN:VCALENDAR
VERSION:2.0
PRODID:-//ChamberMaster//Event Calendar 2.0//EN
METHOD:PUBLISH
X-PUBLISHED-TTL:P3D
REFRESH-INTERVAL:P3D
CALSCALE:GREGORIAN
BEGIN:VEVENT
DTSTART:20260426T190000Z
DTEND:20260426T200000Z
X-MICROSOFT-CDO-ALLDAYEVENT:FALSE
SUMMARY:Community Music Program: Soloist Di Camera String Quartet
DESCRIPTION:Experience the refined artistry of Solisti di Camera\, a dynamic string quartet featuring rich\, expressive harmony. With four accomplished musicians   Ray Ostwald (1st violin)\, and Joseph Malmquist (2nd violin)\, Tom Havel (viola)\, and Mark Kuntz (cello)   the ensemble brings passion and precision to every performance. Journey through the elegance of the Baroque and the brilliance of the Classical era as Solisti di Camera breathes new life into timeless masterpieces. Their performances blend warmth\, sophistication\, and vibrant musical dialogue   captivating audiences with the intimate power only a string quartet can deliver.
X-ALT-DESC;FMTTYPE=text/html:Experience the refined artistry of Solisti di Camera\, a dynamic string quartet featuring rich\, expressive harmony. With four accomplished musicians &ndash\; Ray Ostwald (1st violin)\, and Joseph Malmquist (2nd violin)\, Tom Havel (viola)\, and Mark Kuntz (cello) &ndash\; the ensemble brings passion and precision to every performance. Journey through the elegance of the Baroque and the brilliance of the Classical era as Solisti di Camera breathes new life into timeless masterpieces. Their performances blend warmth\, sophistication\, and vibrant musical dialogue &ndash\; captivating audiences with the intimate power only a string quartet can deliver.
LOCATION:Lizzadro Museum of Lapidary Art 1220 Kensington Road Oak Brook
UID:e.2864.7788
SEQUENCE:3
DTSTAMP:20260422T215526Z
URL:http://business.obchamber.com/events/details/community-music-program-soloist-di-camera-string-quartet-7788
END:VEVENT

END:VCALENDAR
