BEGIN:VCALENDAR
VERSION:2.0
PRODID:-//ChamberMaster//Event Calendar 2.0//EN
METHOD:PUBLISH
X-PUBLISHED-TTL:P3D
REFRESH-INTERVAL:P3D
CALSCALE:GREGORIAN
BEGIN:VEVENT
DTSTART:20191110T210000Z
DTEND:20191110T230000Z
X-MICROSOFT-CDO-ALLDAYEVENT:FALSE
SUMMARY:Concert #2: Tchaikovsky's Pathetique - Dvorak & Prokofiev too
DESCRIPTION:Music to stir your soul: Tchaikovsky's Sixth Symphony is one of the most expressive and moving works ever composed. Sibling violin virtuosi Isabella and Joshua Brown perform enchanting works by Dvor k and Prokofiev.  Sparks will fly!
X-ALT-DESC;FMTTYPE=text/html:Music to stir your soul: Tchaikovsky&rsquo\;s Sixth Symphony is one of the most expressive and moving works ever composed. Sibling violin virtuosi Isabella and Joshua Brown perform enchanting works by Dvor&aacute\;k and Prokofiev.&nbsp\; Sparks will fly!
LOCATION:Elmhurst Christian Reformed Church 149 W Brush Hill Rd. Elmhurst\, IL 60126
UID:e.2864.283
SEQUENCE:3
DTSTAMP:20260425T173651Z
URL:http://business.obchamber.com/events/details/concert-2-tchaikovsky-s-pathetique-dvorak-prokofiev-too-283
END:VEVENT

END:VCALENDAR
