BEGIN:VCALENDAR
VERSION:2.0
PRODID:-//ChamberMaster//Event Calendar 2.0//EN
METHOD:PUBLISH
X-PUBLISHED-TTL:P3D
REFRESH-INTERVAL:P3D
CALSCALE:GREGORIAN
BEGIN:VEVENT
DTSTART:20191116T000000Z
DTEND:20191116T050000Z
X-MICROSOFT-CDO-ALLDAYEVENT:FALSE
SUMMARY:Family Bridges 15th Anniversary: A Future to Remember
DESCRIPTION:15 years of service\, growth and learning is worth a big celebration! Since 2004\, Family Bridges has touched the lives of over 60\,000 families. Join Family Bridges supporters from across the world for this one night of story\, food\, drink\, dance and celebration. Come hear heart-warming stories of transformation of the past 15 years and get a peek into the next 15 years.
X-ALT-DESC;FMTTYPE=text/html:15 years of service\, growth and learning is worth a big celebration! Since 2004\, Family Bridges has touched the lives of over 60\,000 families. Join Family Bridges supporters from across the world for this one night of story\, food\, drink\, dance and celebration. Come hear heart-warming stories of transformation of the past 15 years and get a peek into the next 15 years.
LOCATION:Drury Lane Theatre & Conference Center 100 Drury Lane\, Oakbrook Terrace\, IL
UID:e.2864.218
SEQUENCE:3
DTSTAMP:20260425T213739Z
URL:http://business.obchamber.com/events/details/family-bridges-15th-anniversary-a-future-to-remember-218
END:VEVENT

END:VCALENDAR
