BEGIN:VCALENDAR
VERSION:2.0
PRODID:-//ChamberMaster//Event Calendar 2.0//EN
METHOD:PUBLISH
X-PUBLISHED-TTL:P3D
REFRESH-INTERVAL:P3D
CALSCALE:GREGORIAN
BEGIN:VEVENT
DTSTART:20211017T150000Z
DTEND:20211017T170000Z
X-MICROSOFT-CDO-ALLDAYEVENT:FALSE
SUMMARY:LUNG FORCE Walk - Chicagoland
DESCRIPTION:Join us at the LUNG FORCE Walk\, locally presented by Northwestern Medicine\, the American Lung Association's signature event to support and promote lung health.\n\nIt doesn't matter whether you stroll\, saunter\, or power-walk: all are welcome at LUNG FORCE Walks. It's a celebratory atmosphere for all ages and abilities.\n\nYour safety is always our number one priority. We are continually monitoring local conditions with regard to COVID-19. Check this page for the most up-to-date information about the event.\n\nThere's even a Walk Your Way virtual option for those who can't make it to the event.\n\nThe LUNG FORCE Walk provides critical funds for lifesaving research\, early detection initiatives\, and pandemic defense and prevention through our COVID-19 Action Initiative and vaccine outreach.\n\nRegister today and save your spot at LUNGFORCEWalk.org/Chicagoland. Registration is free and those that do fundraise can earn various incentives at the event. Feel free to contact us at EventsCHI@Lung.org if you have any questions about this year's event.
X-ALT-DESC;FMTTYPE=text/html:<p>Join us at the&nbsp\;<a href="https://action.lung.org/site/TR?fr_id=22058&amp\;pg=entry" rel="nofollow" style="box-sizing: border-box\; margin: 20px 0px\; color: rgb(0\, 158\, 19)\; text-decoration-line: none\; font-size: 1.125rem\; line-height: 26.4px\;" target="_blank"><span style="color:08BED5">LUNG FORCE Walk</span></a>\, locally presented by Northwestern Medicine\, the American Lung Association&#39\;s signature event to support and promote lung health.</p>\n\n<p>It doesn&#39\;t matter whether you stroll\, saunter\, or power-walk: all are welcome at LUNG FORCE Walks. It&#39\;s a celebratory atmosphere for all ages and abilities.</p>\n\n<p>Your safety is always our number one priority. We are continually monitoring local conditions with regard to COVID-19. Check this page for the most up-to-date information about the event.</p>\n\n<p>There&#39\;s even a&nbsp\;<a href="https://action.lung.org/site/TR?pg=informational&amp\;sid=11993&amp\;fr_id=22058" rel="nofollow" style="box-sizing: border-box\; margin: 20px 0px\; color: rgb(0\, 158\, 19)\; text-decoration-line: none\; font-size: 1.125rem\; line-height: 26.4px\;" target="_blank">Walk Your Way</a>&nbsp\;virtual option for those who can&rsquo\;t make it to the event.</p>\n\n<p>The LUNG FORCE Walk provides critical funds for lifesaving research\, early detection initiatives\, and pandemic defense and prevention through our COVID-19 Action Initiative and vaccine outreach.</p>\n\n<p>Register today and save your spot at <a href="https://action.lung.org/site/TR?fr_id=22058&amp\;pg=entry">LUNGFORCEWalk.org/Chicagoland.</a> Registration is free and those that do fundraise can earn various incentives at the event.&nbsp\;Feel free to&nbsp\;<a href="https://action.lung.org/site/TR?pg=informational&amp\;fr_id=22058&amp\;type=fr_informational&amp\;sid=11983" rel="nofollow" style="box-sizing: border-box\; margin: 20px 0px\; color: rgb(0\, 158\, 19)\; text-decoration-line: none\; font-size: 1.125rem\; line-height: 26.4px\;" target="_blank">contact us</a>&nbsp\;at EventsCHI@Lung.org if you have any questions about this year&#39\;s event.</p>\n
LOCATION:Cantigny Park 1 S 151 Winfield Road Wheaton\, IL 60189
UID:e.2864.5484
SEQUENCE:3
DTSTAMP:20260423T182826Z
URL:http://business.obchamber.com/events/details/lung-force-walk-5484
END:VEVENT

END:VCALENDAR
