BEGIN:VCALENDAR
VERSION:2.0
PRODID:-//ChamberMaster//Event Calendar 2.0//EN
METHOD:PUBLISH
X-PUBLISHED-TTL:P3D
REFRESH-INTERVAL:P3D
CALSCALE:GREGORIAN
BEGIN:VEVENT
DTSTART:20200919T190000Z
DTEND:20200919T220000Z
X-MICROSOFT-CDO-ALLDAYEVENT:FALSE
SUMMARY:Oak Brook Park District Autumn Fest
DESCRIPTION:Autumn Fest\n\n\n\n\n\n\n\n\n\nAutumn Fest is back and ready for social distance FUN!\n\nDue to COVID-19\, we will be practicing social distance guidelines at this year's Autumn Fest event. We will have social distance "circles" available for purchase at $30.00 per circle. Each circle will allow for 6 people. There will not be food and beverage sold on site this year\; all guests are encouraged to bring their own snacks and beverages.\n\nThis jam-packed kid's event will have something for everyone.  For the first 90 minutes (2:00-3:30 PM) there will be entertainers providing a show directly to each section.  The entertainers include Anna\, Elsa\, & Kristof\, a magician\, a juggler\, and a bubble show.  During this rotation\, your child will also have the opportunity to do a craft and play carnival games. All crafts and activities will keep social distancing in mind. For the second half of the event\, we will have DJ Coach Josh playing fun\, family-friendly music! \n\nREGISTER ONLINE TODAY!\n\n\n\n\n\n\n\n\n\n\n\n\n\nFor more information about the event\, contact Brian DeWolf.\n\nIf you are interested in a possible partnership or sponsorship at this event\, contact Corporate and Community Relations.
X-ALT-DESC;FMTTYPE=text/html:<h1 class="title" id="page-title" style="margin: 0px 0px 20px\; padding: 0px\; border: 0px\; outline: 0px\; vertical-align: baseline\; font-variant-numeric: inherit\; font-variant-east-asian: inherit\; font-stretch: inherit\; font-size: 42px\; line-height: 52.5px\; font-family: Montserrat\, &quot\;Open Sans&quot\;\, sans-serif\; font-weight: 600\; letter-spacing: -0.03em\;">Autumn Fest</h1>\n\n<div class="block block-system block-main block-system-main odd block-without-title" id="block-system-main" style="margin: 0px\; padding: 0px\; border: 0px\; outline: 0px\; vertical-align: baseline\; font-variant-numeric: inherit\; font-variant-east-asian: inherit\; font-stretch: inherit\; font-size: 15px\; line-height: inherit\; font-family: &quot\;Open Sans&quot\;\, sans-serif\;">\n<div class="block-inner clearfix" style="margin: 0px\; padding: 0px\; border: 0px\; outline: 0px\; vertical-align: baseline\; font: inherit\;">\n<div class="content clearfix" style="margin: 0px\; padding: 0px\; border: 0px\; outline: 0px\; vertical-align: baseline\; font: inherit\;">\n<article about="/special-events/autumn-fest" class="node node-special-event node-published node-not-promoted node-not-sticky author-gwooley odd clearfix" id="node-special-event-348" style="margin: 0px\; padding: 0px\; border: 0px\; outline: 0px\; vertical-align: baseline\; font: inherit\;" typeof="sioc:Item foaf:Document">\n<div class="content clearfix" style="margin: 0px\; padding: 0px\; border: 0px\; outline: 0px\; vertical-align: baseline\; font: inherit\;">\n<div class="field field-name-body field-type-text-with-summary field-label-hidden" style="margin: 0px\; padding: 0px\; border: 0px\; outline: 0px\; vertical-align: baseline\; font: inherit\;">\n<div class="field-items" style="margin: 0px\; padding: 0px\; border: 0px\; outline: 0px\; vertical-align: baseline\; font: inherit\;">\n<div class="field-item even" property="content:encoded" style="margin: 0px\; padding: 0px\; border: 0px\; outline: 0px\; vertical-align: baseline\; font: inherit\;">\n<h3 style="margin: 0px 0px 20px\; padding: 0px\; border: 0px\; outline: 0px\; vertical-align: baseline\; font-style: inherit\; font-variant: inherit\; font-stretch: inherit\; font-size: 20px\; line-height: 25px\; font-family: Montserrat\, &quot\;Open Sans&quot\;\, sans-serif\; letter-spacing: -0.03em\;"><strong style="margin: 0px\; padding: 0px\; border: 0px\; outline: 0px\; vertical-align: baseline\; font-style: inherit\; font-variant: inherit\; font-stretch: inherit\; font-size: inherit\; line-height: inherit\; font-family: inherit\;">Autumn Fest is back and ready for social distance FUN!</strong></h3>\n\n<p style="margin: 0px 0px 20px\; padding: 0px\; border: 0px\; outline: 0px\; vertical-align: baseline\; font: inherit\;">Due to COVID-19\, we will be practicing social distance guidelines at this year&#39\;s Autumn Fest event. We will have social distance &quot\;circles&quot\; available for purchase at $30.00 per circle. Each circle will allow for 6 people. There will not be food and beverage sold on site this year\; all guests are encouraged to bring their own snacks and beverages.</p>\n\n<p style="margin: 0px 0px 20px\; padding: 0px\; border: 0px\; outline: 0px\; vertical-align: baseline\; font: inherit\;">This jam-packed kid&rsquo\;s event will have something for everyone. &nbsp\;For the first 90 minutes (2:00-3:30 PM) there will be entertainers providing a show directly to each&nbsp\;section. &nbsp\;The entertainers include Anna\, Elsa\, &amp\; Kristof\, a magician\, a juggler\, and a bubble show. &nbsp\;During this rotation\, your child will also have the opportunity to do a craft and play carnival games. All crafts and activities will keep social distancing in mind. For the second half of the event\,&nbsp\;we will have DJ Coach Josh playing fun\, family-friendly music!&nbsp\;</p>\n\n<p style="margin: 0px 0px 20px\; padding: 0px\; border: 0px\; outline: 0px\; vertical-align: baseline\; font: inherit\;"><a href="http://events.constantcontact.com/register/event?llr=qy6e78cab&amp\;oeidk=a07eh9j5zpue5dce369" rel="noopener noreferrer" style="margin: 0px\; padding: 0px\; border: 0px\; outline: 0px\; vertical-align: baseline\; font: inherit\; color: rgb(134\, 171\, 58)\;" target="_blank">REGISTER ONLINE TODAY</a>!</p>\n</div>\n</div>\n</div>\n\n<div class="paragraphs-items paragraphs-items-field-paragraphs-section paragraphs-items-field-paragraphs-section-full paragraphs-items-full" style="margin: 0px\; padding: 0px\; border: 0px\; outline: 0px\; vertical-align: baseline\; font: inherit\;">\n<div class="field field-name-field-paragraphs-section field-type-paragraphs field-label-hidden" style="margin: 0px\; padding: 0px\; border: 0px\; outline: 0px\; vertical-align: baseline\; font: inherit\; clear: both\;">\n<div class="field-items" style="margin: 0px\; padding: 0px\; border: 0px\; outline: 0px\; vertical-align: baseline\; font: inherit\;">\n<div class="field-item even" style="margin: 0px\; padding: 0px\; border: 0px\; outline: 0px\; vertical-align: baseline\; font: inherit\;">\n<div about="" class="entity entity-paragraphs-item paragraphs-item-content-section" style="margin: 20px 0px 0px\; padding: 0px\; border: 0px\; outline: 0px\; vertical-align: baseline\; font: inherit\; clear: both\;" typeof="">\n<div class="content" style="margin: 0px\; padding: 0px\; border: 0px\; outline: 0px\; vertical-align: baseline\; font: inherit\;">\n<div class="field field-name-field-body-text field-type-text-long field-label-hidden" style="margin: 0px\; padding: 0px\; border: 0px\; outline: 0px\; vertical-align: baseline\; font: inherit\;">\n<div class="field-items" style="margin: 0px\; padding: 0px\; border: 0px\; outline: 0px\; vertical-align: baseline\; font: inherit\;">\n<div class="field-item even" style="margin: 0px\; padding: 0px\; border: 0px\; outline: 0px\; vertical-align: baseline\; font: inherit\;">\n<p style="margin: 0px 0px 20px\; padding: 0px\; border: 0px\; outline: 0px\; vertical-align: baseline\; font: inherit\;">For more information about the event\, contact&nbsp\;<a class="spamspan" href="mailto:bdewolf@obparks.org" style="margin: 0px\; padding: 0px\; border: 0px\; outline: 0px\; vertical-align: baseline\; font: inherit\; color: rgb(134\, 171\, 58)\;">Brian DeWolf</a>.</p>\n\n<p style="margin: 0px 0px 20px\; padding: 0px\; border: 0px\; outline: 0px\; vertical-align: baseline\; font: inherit\;"><em style="margin: 0px\; padding: 0px\; border: 0px\; outline: 0px\; vertical-align: baseline\; font-variant: inherit\; font-weight: inherit\; font-stretch: inherit\; font-size: inherit\; line-height: inherit\; font-family: inherit\;">If you are interested in a possible partnership or sponsorship at this event\, contact&nbsp\;<a class="spamspan" href="mailto:llittwin@obparks.org" style="margin: 0px\; padding: 0px\; border: 0px\; outline: 0px\; vertical-align: baseline\; font: inherit\; color: rgb(51\, 51\, 51)\; text-decoration-line: none\;">Corporate and Community Relations</a>.&nbsp\;</em></p>\n</div>\n</div>\n</div>\n</div>\n</div>\n</div>\n</div>\n</div>\n</div>\n</div>\n</article>\n</div>\n</div>\n</div>\n
LOCATION:Central Park Performing Arts Pavilion 1500 Forest Gate Road Oak Brook
UID:e.2864.4965
SEQUENCE:3
DTSTAMP:20260420T100015Z
URL:http://business.obchamber.com/events/details/oak-brook-park-district-autumn-fest-4965
END:VEVENT

END:VCALENDAR
