BEGIN:VCALENDAR
VERSION:2.0
PRODID:-//ChamberMaster//Event Calendar 2.0//EN
METHOD:PUBLISH
X-PUBLISHED-TTL:P3D
REFRESH-INTERVAL:P3D
CALSCALE:GREGORIAN
BEGIN:VEVENT
DTSTART:20260502T190000Z
DTEND:20260502T200000Z
X-MICROSOFT-CDO-ALLDAYEVENT:FALSE
SUMMARY:Rare Earths and Beyond: The Mineralogical Foundations of Modern Cellphones
DESCRIPTION:We're excited to invite you to an engaging presentation by Michael Wise\, research scientist at the Smithsonian Institution. Dr. Wise is a leading expert on pegmatites   remarkable rock formations that host some of the rarest and most beautiful minerals on earth. These minerals may look like dazzling museum specimens\, but they also power the technology we carry every day. As a contributor to the Smithsonian's exhibition "Cellphone: Unseen Connections\," he helped reveal the surprising journey from molten formation to the device in your pocket. Join us as he explores the fascinating story of how minerals formed millions of years ago became essential components in modern cellphones.
X-ALT-DESC;FMTTYPE=text/html:We&rsquo\;re excited to invite you to an engaging presentation by Michael Wise\, research scientist at the Smithsonian Institution. Dr. Wise is a leading expert on pegmatites &ndash\; remarkable rock formations that host some of the rarest and most beautiful minerals on earth. These minerals may look like dazzling museum specimens\, but they also power the technology we carry every day. As a contributor to the Smithsonian&rsquo\;s exhibition &ldquo\;Cellphone: Unseen Connections\,&rdquo\; he helped reveal the surprising journey from molten formation to the device in your pocket. Join us as he explores the fascinating story of how minerals formed millions of years ago became essential components in modern cellphones.
LOCATION:Lizzadro Museum of Lapidary Art 1220 Kensington Road Oak Brook
UID:e.2864.7789
SEQUENCE:3
DTSTAMP:20260422T215332Z
URL:http://business.obchamber.com/events/details/rare-earths-and-beyond-the-mineralogical-foundations-of-modern-cellphones-7789
END:VEVENT

END:VCALENDAR
