BEGIN:VCALENDAR
VERSION:2.0
PRODID:-//ChamberMaster//Event Calendar 2.0//EN
METHOD:PUBLISH
X-PUBLISHED-TTL:P3D
REFRESH-INTERVAL:P3D
CALSCALE:GREGORIAN
BEGIN:VEVENT
DTSTART:20200715T203000Z
DTEND:20200715T220000Z
X-MICROSOFT-CDO-ALLDAYEVENT:FALSE
SUMMARY:Young Business Leaders Zoom Meeting and Mixer on July 15\, 2020
DESCRIPTION:Topic: Young Business Leaders Zoom Virtual Meeting\n\nTime: Jul 15\, 2020 03:30 PM Central Time (US and Canada)\n\n \n\nJoin Zoom Meeting\n\nhttps://us02web.zoom.us/j/87804694423?pwd=K3ZhZkRWTHhWNjdWYkZma0RYN1lUdz09\n\nMeeting ID: 878 0469 4423\n\nPassword: 601891\n\n\n\nFor more information please contact Tamryn Hennessy at thennessy@obchamber.com.
X-ALT-DESC;FMTTYPE=text/html:Topic: Young Business Leaders Zoom Virtual Meeting<br />\nTime: Jul 15\, 2020 03:30 PM Central Time (US and Canada)<br />\n&nbsp\;<br />\nJoin Zoom Meeting<br />\n<a href="https://us02web.zoom.us/j/87804694423?pwd=K3ZhZkRWTHhWNjdWYkZma0RYN1lUdz09">https://us02web.zoom.us/j/87804694423?pwd=K3ZhZkRWTHhWNjdWYkZma0RYN1lUdz09</a><br />\nMeeting ID: 878 0469 4423<br />\nPassword: 601891<br />\n<br />\nFor more information please contact Tamryn Hennessy at thennessy@obchamber.com.
LOCATION:
UID:e.2864.4614
SEQUENCE:3
DTSTAMP:20260421T021833Z
URL:http://business.obchamber.com/events/details/young-business-leaders-zoom-meeting-and-mixer-on-july-15-2020-4614
END:VEVENT

END:VCALENDAR
