BEGIN:VCALENDAR
VERSION:2.0
PRODID:-//ChamberMaster//Event Calendar 2.0//EN
METHOD:PUBLISH
X-PUBLISHED-TTL:P3D
REFRESH-INTERVAL:P3D
CALSCALE:GREGORIAN
BEGIN:VEVENT
DTSTART:20201105T150000Z
DTEND:20201105T163000Z
X-MICROSOFT-CDO-ALLDAYEVENT:FALSE
SUMMARY:Inclusion & Diversity Council Meeting - November 5\, 2020
DESCRIPTION:
X-ALT-DESC;FMTTYPE=text/html:
LOCATION:Location TBD
UID:e.2864.4715
SEQUENCE:3
DTSTAMP:20260424T102010Z
URL:https://business.obchamber.com/events/details/inclusion-diversity-council-meeting-november-5-2020-4715
END:VEVENT

END:VCALENDAR
