BEGIN:VCALENDAR
VERSION:2.0
PRODID:-//ChamberMaster//Event Calendar 2.0//EN
METHOD:PUBLISH
X-PUBLISHED-TTL:P3D
REFRESH-INTERVAL:P3D
CALSCALE:GREGORIAN
BEGIN:VEVENT
DTSTART:20250328T203000Z
DTEND:20250328T220000Z
X-MICROSOFT-CDO-ALLDAYEVENT:FALSE
SUMMARY:Lewis University - Speech-Language Pathology Virtual Information Session (Online Program only)
DESCRIPTION:Speech-Language Pathology is a much-needed service in today's communities. At our MSSLP Online Virtual Information Session\, you'll learn how Lewis University's new online Master's program beginning Summer 2026 prepares you to make a difference by aligning it with our mission of developing the complete person through the spirit of association. From faculty-led clinical experiences to understanding the causes of communication disorders through the study of neuroscience\, we'll help you gain the skills that lead to greater career potential.
X-ALT-DESC;FMTTYPE=text/html:Speech-Language Pathology is a much-needed service in today&#39\;s communities. At our MSSLP Online Virtual Information Session\, you&#39\;ll learn how Lewis University&#39\;s new online Master&#39\;s program beginning Summer 2026 prepares you to make a difference by aligning it with our mission of developing the complete person through the spirit of association. From faculty-led clinical experiences to understanding the causes of communication disorders through the study of neuroscience\, we&#39\;ll help you gain the skills that lead to greater career potential.&nbsp\;
LOCATION:Online
UID:e.2864.7634
SEQUENCE:3
DTSTAMP:20260420T074559Z
URL:https://business.obchamber.com/events/details/lewis-university-speech-language-pathology-virtual-information-session-online-program-only-7634
END:VEVENT

END:VCALENDAR
