BEGIN:VCALENDAR
VERSION:2.0
PRODID:-//ChamberMaster//Event Calendar 2.0//EN
METHOD:PUBLISH
X-PUBLISHED-TTL:P3D
REFRESH-INTERVAL:P3D
CALSCALE:GREGORIAN
BEGIN:VEVENT
DTSTART:20241106T220000Z
DTEND:20241107T000000Z
X-MICROSOFT-CDO-ALLDAYEVENT:FALSE
SUMMARY:Networking Cocktail Reception November 6\, 2024
DESCRIPTION:
X-ALT-DESC;FMTTYPE=text/html:
LOCATION:Michael Jordan's Restaurant 1225 22nd Street Oak Brook
UID:e.2864.7490
SEQUENCE:3
DTSTAMP:20260425T163330Z
URL:https://business.obchamber.com/events/details/networking-cocktail-reception-november-6-2024-7490
END:VEVENT

END:VCALENDAR
