BEGIN:VCALENDAR
VERSION:2.0
PRODID:-//ChamberMaster//Event Calendar 2.0//EN
METHOD:PUBLISH
X-PUBLISHED-TTL:P3D
REFRESH-INTERVAL:P3D
CALSCALE:GREGORIAN
BEGIN:VEVENT
DTSTART:20260530T153000Z
DTEND:20260530T154500Z
X-MICROSOFT-CDO-ALLDAYEVENT:FALSE
SUMMARY:Rock and Mineral Identification Class
DESCRIPTION:Join geologist Sara Kurth for a hands-on rock and mineral identification class. Learn to classify minerals using observation and hardness testing. Perfect for curious rock-hounds or scouts working on Earth Science badges\, this class will deepen your understanding of earth science and teach you to identify rocks and minerals like a pro!
X-ALT-DESC;FMTTYPE=text/html:Join geologist Sara Kurth for a hands-on rock and mineral identification class. Learn to classify minerals using observation and hardness testing. Perfect for curious rock-hounds or scouts working on Earth Science badges\, this class will deepen your understanding of earth science and teach you to identify rocks and minerals like a pro!
LOCATION:Lizzadro Museum of Lapidary Art 1220 Kensington Road Oak Brook
UID:e.2864.7790
SEQUENCE:3
DTSTAMP:20260423T084558Z
URL:https://business.obchamber.com/events/details/rock-and-mineral-identification-class-05-30-2026-7790
END:VEVENT

END:VCALENDAR
