BEGIN:VCALENDAR
VERSION:2.0
PRODID:-//ChamberMaster//Event Calendar 2.0//EN
METHOD:PUBLISH
X-PUBLISHED-TTL:P3D
REFRESH-INTERVAL:P3D
CALSCALE:GREGORIAN
BEGIN:VEVENT
DTSTART:20260521T140000Z
DTEND:20260521T150000Z
X-MICROSOFT-CDO-ALLDAYEVENT:FALSE
SUMMARY:State of the City - Coffee & Conversation with Mayor Paul Esposito
DESCRIPTION:Greater Oak Brook Chamber members\, residents\, partners\, and friends are invited to a "State of the City" Coffee and Conversation with Oakbrook Terrace Mayor Paul Esposito.
X-ALT-DESC;FMTTYPE=text/html:<span style="font-size:16px\;"><span style="font-family:arial\;">Greater Oak Brook Chamber members\, residents\, partners\, and friends are invited to a &quot\;State of the City&quot\; Coffee and Conversation with Oakbrook Terrace Mayor Paul Esposito.</span></span>
LOCATION:Council Chambers 17W261 Butterfield Road Oakbrook Terrace
UID:e.2864.7800
SEQUENCE:3
DTSTAMP:20260420T200841Z
URL:https://business.obchamber.com/events/details/state-of-the-city-coffee-conversation-with-mayor-paul-esposito-7800
END:VEVENT

END:VCALENDAR
