BEGIN:VCALENDAR
VERSION:2.0
PRODID:-//ChamberMaster//Event Calendar 2.0//EN
METHOD:PUBLISH
X-PUBLISHED-TTL:P3D
REFRESH-INTERVAL:P3D
CALSCALE:GREGORIAN
BEGIN:VEVENT
DTSTART:20260502T150000Z
DTEND:20260502T160000Z
X-MICROSOFT-CDO-ALLDAYEVENT:FALSE
SUMMARY:Turning 65 Soon? What You Need To Know About Medicare
DESCRIPTION:Get the Facts Before You Enroll in Medicare\n\n\n\nDeciding when to enroll in Medicare can be one of the most important\, and complicated\, financial decisions you'll face. Timing\, income\, and enrollment choices can impact your benefits and healthcare costs for years to come.\n\n\n\nJoin us for a complimentary\, educational session designed to help you understand your options and avoid costly mistakes\n\n\n\nWhat You'll Learn:\n\n	How Medicare works and when to enroll\n	What Medicare does - and doesn't cover\n	How timing decisions may affect healthcare costs and premiums\n	Common mistakes to avoid\n\n\n\nYour Financial Education Team\n\n\n\nFrank Van Der Sande\n\nProduct Line Wholesaler\n\n\n\nTim Cunningham\n\nFinancial Representative\n\n\n\nOksan Pilafas\n\nFinancial Representative\n\n\n\nAditya Deepak\n\nFinancial Representative
X-ALT-DESC;FMTTYPE=text/html:Get the Facts Before You Enroll in Medicare<br />\n<br />\nDeciding when to enroll in Medicare can be one of the most important\, and complicated\, financial decisions you&rsquo\;ll face. Timing\, income\, and enrollment choices can impact your benefits and healthcare costs for years to come.<br />\n<br />\nJoin us for a complimentary\, educational session designed to help you understand your options and avoid costly mistakes<br />\n<br />\nWhat You&#39\;ll Learn:\n<ul>\n	<li>How Medicare works and when to enroll</li>\n	<li>What Medicare does - and doesn&rsquo\;t cover</li>\n	<li>How timing decisions may affect healthcare costs and premiums</li>\n	<li>Common mistakes to avoid</li>\n</ul>\n<br />\n<span style="color: rgb(51\, 51\, 51)\; font-family: sans-serif\, Arial\, Verdana\, &quot\;Trebuchet MS&quot\;\; font-size: 13px\; background-color: rgb(255\, 255\, 255)\;">Your Financial Education Team<br />\n<br />\nFrank Van Der Sande</span><br style="color: rgb(51\, 51\, 51)\; font-family: sans-serif\, Arial\, Verdana\, &quot\;Trebuchet MS&quot\;\; font-size: 13px\;" />\n<span style="color: rgb(51\, 51\, 51)\; font-family: sans-serif\, Arial\, Verdana\, &quot\;Trebuchet MS&quot\;\; font-size: 13px\; background-color: rgb(255\, 255\, 255)\;">Product Line Wholesaler<br />\n<br />\nTim Cunningham<br />\nFinancial Representative<br />\n<br />\nOksan Pilafas<br />\nFinancial Representative<br />\n<br />\nAditya Deepak<br />\nFinancial Representative</span><br />\n&nbsp\;
LOCATION:Mutual of Omaha Advisors 1 Mid America Plaza\, Suite 222 Oakbrook Terrace\, IL 60181
UID:e.2864.7801
SEQUENCE:3
DTSTAMP:20260421T213233Z
URL:https://business.obchamber.com/events/details/turning-65-soon-what-you-need-to-know-about-medicare-7801
END:VEVENT

END:VCALENDAR
